BEGIN:VCALENDAR
VERSION:2.0
PRODID:-//Tukios.com/
BEGIN:VEVENT
UID:73b0f1c0-d3b7-48e0-8693-3e8fca0212bc@www.indianafuneralcare.com
DTSTAMP:20260423T192135Z
DTSTART:20260502T140000Z
DTEND:20260502T150000Z
SUMMARY:Celebration of Life
DESCRIPTION:
URL:https://www.indianafuneralcare.com/obituaries/paul-guyer
LOCATION:St. Paul’s Church 6050 N Meridian St  Indianapolis IN 46208
GEO:39.8653359;-86.1568678
END:VEVENT
END:VCALENDAR