BEGIN:VCALENDAR
VERSION:2.0
PRODID:-//Tukios.com/
BEGIN:VEVENT
UID:6de5d396-92dd-4ad4-b76e-1eb08fe8f157@www.indianafuneralcare.com
DTSTAMP:20260424T214436Z
DTSTART:20260501T163000Z
DTEND:20260501T173000Z
SUMMARY:Mass
DESCRIPTION:
URL:https://www.indianafuneralcare.com/obituaries/joan-wieczorek
LOCATION:St Lawrence Catholic Church 4650 Shadeland Avenue  Indianapolis 
	IN 46226
GEO:39.8415699;-86.0467862
END:VEVENT
END:VCALENDAR