BEGIN:VCALENDAR
VERSION:2.0
PRODID:-//Tukios.com/
BEGIN:VEVENT
UID:0d67177a-3db4-4d20-92d8-66fdf0f15444@www.indianafuneralcare.com
DTSTAMP:20260424T214441Z
DTSTART:20260501T153000Z
DTEND:20260501T163000Z
SUMMARY:Visitation
DESCRIPTION:
URL:https://www.indianafuneralcare.com/obituaries/joan-wieczorek
LOCATION:St Lawrence Catholic Church 4650 Shadeland Avenue  Indianapolis 
	IN 46226
GEO:39.8415699;-86.0467862
END:VEVENT
END:VCALENDAR