BEGIN:VCALENDAR
VERSION:2.0
PRODID:-//Tukios.com/
BEGIN:VEVENT
UID:0ad582c9-3486-4f26-832c-7ae572490324@www.indianafuneralcare.com
DTSTAMP:20260424T012831Z
DTSTART:20260428T183000Z
DTEND:20260428T193000Z
SUMMARY:Funeral Service
DESCRIPTION:
URL:https://www.indianafuneralcare.com/obituaries/jeffery-dwayne-barron
LOCATION:Camp Nelson National Cemetery 6980 Danville Road  Nicholasville 
	KY 40356
GEO:37.7871642;-84.6027211
END:VEVENT
END:VCALENDAR