BEGIN:VCALENDAR
VERSION:2.0
PRODID:-//Tukios.com/
BEGIN:VEVENT
UID:394a115f-8578-47de-a00e-30c66c2192f3@www.indianafuneralcare.com
DTSTAMP:20260421T200602Z
DTSTART:20260425T190000Z
DTEND:20260425T200000Z
SUMMARY:Funeral Service
DESCRIPTION:
URL:https://www.indianafuneralcare.com/obituaries/gary-reasner
LOCATION: 8151 Allisonville Rd.  Indianapolis IN 46250
GEO:39.9039146;-86.0781478
END:VEVENT
END:VCALENDAR