BEGIN:VCALENDAR
VERSION:2.0
PRODID:-//Tukios.com/
BEGIN:VEVENT
UID:545cd5bf-e507-4b37-bfee-b137cc3c7320@www.indianafuneralcare.com
DTSTAMP:20260421T200556Z
DTSTART:20260425T170000Z
DTEND:20260425T190000Z
SUMMARY:Viewing
DESCRIPTION:
URL:https://www.indianafuneralcare.com/obituaries/gary-reasner
LOCATION: 8151 Allisonville Rd.  Indianapolis IN 46250
GEO:39.9039146;-86.0781478
END:VEVENT
END:VCALENDAR