BEGIN:VCALENDAR
VERSION:2.0
PRODID:-//Tukios.com/
BEGIN:VEVENT
UID:ceecef2d-6093-4cf2-b052-7f0eb6a7bde5@www.indianafuneralcare.com
DTSTAMP:20260419T205241Z
DTSTART:20260420T163000Z
DTEND:20260420T170000Z
SUMMARY:Burial
DESCRIPTION:
URL:https://www.indianafuneralcare.com/obituaries/francisco-guzman
LOCATION: 4430 Rocklane Rd  Greenwood IN 46143
GEO:39.6123379;-86.018097
END:VEVENT
END:VCALENDAR