BEGIN:VCALENDAR
VERSION:2.0
PRODID:-//Tukios.com/
BEGIN:VEVENT
UID:aa5a6049-350b-4ffa-ac72-d60dcc580cf4@www.indianafuneralcare.com
DTSTAMP:20260419T205057Z
DTSTART:20260420T150000Z
DTEND:20260420T160000Z
SUMMARY:Funeral Service
DESCRIPTION:
URL:https://www.indianafuneralcare.com/obituaries/francisco-guzman
LOCATION: 2433 E. Main St.  Greenwood IN 46143
GEO:39.6142521;-86.0596023
END:VEVENT
END:VCALENDAR