BEGIN:VCALENDAR
VERSION:2.0
PRODID:-//Tukios.com/
BEGIN:VEVENT
UID:96b5eaa7-98bf-4079-a82e-9617aac9d504@www.indianafuneralcare.com
DTSTAMP:20260419T205402Z
DTSTART:20260420T140000Z
DTEND:20260420T150000Z
SUMMARY:Visitation
DESCRIPTION:
URL:https://www.indianafuneralcare.com/obituaries/francisco-guzman
LOCATION: 2433 E. Main St.  Greenwood IN 46143
GEO:39.6142521;-86.0596023
END:VEVENT
END:VCALENDAR