BEGIN:VCALENDAR
VERSION:2.0
PRODID:-//Tukios.com/
BEGIN:VEVENT
UID:a651d74f-bc41-49c2-b643-464350bfb857@www.indianafuneralcare.com
DTSTAMP:20260425T011826Z
DTSTART:20260502T150000Z
DTEND:20260502T160000Z
SUMMARY:Celebration of Life
DESCRIPTION:
URL:https://www.indianafuneralcare.com/obituaries/barbara-gehris
LOCATION: 7650 Oaklandon Rd  Indianapolis IN 46236
GEO:39.8947941;-85.9585918
END:VEVENT
END:VCALENDAR