BEGIN:VCALENDAR
VERSION:2.0
PRODID:-//Tukios.com/
BEGIN:VEVENT
UID:9f099a11-01e8-4e5f-93be-63108f111f3f@www.indianafuneralcare.com
DTSTAMP:20260425T011310Z
DTSTART:20260502T140000Z
DTEND:20260502T150000Z
SUMMARY:Visitation
DESCRIPTION:
URL:https://www.indianafuneralcare.com/obituaries/barbara-gehris
LOCATION: 7650 Oaklandon Rd  Indianapolis IN 46236
GEO:39.8947941;-85.9585918
END:VEVENT
END:VCALENDAR