BEGIN:VCALENDAR
VERSION:2.0
PRODID:-//Tukios.com/
BEGIN:VEVENT
UID:240c8392-d277-4045-bd38-d61f346b2ab7@www.indianafuneralcare.com
DTSTAMP:20260420T171337Z
DTSTART:20260424T193000Z
DTEND:20260424T203000Z
SUMMARY:Graveside Service
DESCRIPTION:
URL:https://www.indianafuneralcare.com/obituaries/anthony-griggs
LOCATION: 910 N Morgantown Rd  Greenwood IN 46142
GEO:39.6260534;-86.1965556
END:VEVENT
END:VCALENDAR