BEGIN:VCALENDAR
VERSION:2.0
PRODID:-//Tukios.com/
BEGIN:VEVENT
UID:15c38217-56bf-46d3-853e-ab7bb090e169@www.indianafuneralcare.com
DTSTAMP:20260420T171017Z
DTSTART:20260424T180000Z
DTEND:20260424T190000Z
SUMMARY:Funeral Service
DESCRIPTION:
URL:https://www.indianafuneralcare.com/obituaries/anthony-griggs
LOCATION: 2433 E. Main St.  Greenwood IN 46143
GEO:39.6142521;-86.0596023
END:VEVENT
END:VCALENDAR