BEGIN:VCALENDAR
VERSION:2.0
PRODID:-//Tukios.com/
BEGIN:VEVENT
UID:6852ce61-404f-4c31-864d-5c662e6b4d21@www.indianafuneralcare.com
DTSTAMP:20260420T171436Z
DTSTART:20260424T140000Z
DTEND:20260424T180000Z
SUMMARY:Visitation
DESCRIPTION:
URL:https://www.indianafuneralcare.com/obituaries/anthony-griggs
LOCATION: 2433 E. Main St.  Greenwood IN 46143
GEO:39.6142521;-86.0596023
END:VEVENT
END:VCALENDAR