BEGIN:VCALENDAR
VERSION:2.0
PRODID:-//Tukios.com/
BEGIN:VEVENT
UID:d91ec3c2-d761-468a-b98a-265a25463af9@www.indianafuneralcare.com
DTSTAMP:20260421T230516Z
DTSTART:20260502T180000Z
DTEND:20260502T210000Z
SUMMARY:Celebration of Life
DESCRIPTION:
URL:https://www.indianafuneralcare.com/obituaries/amelia-morris
LOCATION: 8151 Allisonville Rd.  Indianapolis IN 46250
GEO:39.9039146;-86.0781478
END:VEVENT
END:VCALENDAR